BEGIN:VCALENDAR
VERSION:2.0
PRODID:-//Yoga By Donation - ECPv6.6.0.2//NONSGML v1.0//EN
CALSCALE:GREGORIAN
METHOD:PUBLISH
X-ORIGINAL-URL:https://yogabydonation.org
X-WR-CALDESC:Events for Yoga By Donation
REFRESH-INTERVAL;VALUE=DURATION:PT1H
X-Robots-Tag:noindex
X-PUBLISHED-TTL:PT1H
BEGIN:VTIMEZONE
TZID:UTC
BEGIN:STANDARD
TZOFFSETFROM:+0000
TZOFFSETTO:+0000
TZNAME:UTC
DTSTART:20210101T000000
END:STANDARD
END:VTIMEZONE
BEGIN:VEVENT
DTSTART;TZID=UTC:20211201T180000
DTEND;TZID=UTC:20211201T184500
DTSTAMP:20260425T113437
CREATED:20211129T052657Z
LAST-MODIFIED:20211207T102234Z
UID:47017-1638381600-1638384300@yogabydonation.org
SUMMARY:Guided Meditations to Expand
DESCRIPTION:Guided Meditations to expand\nis a 45 minute session class where\nyou can articulate what is you need. \nThe combination of guidance and silence\nwill initially use imgaination ( Yes you still do\nhave imagination) to lead you to your\nAuthentic Self . It is then\, from this place that\nyou will find expansiveness. \nPreRegister today to receive the link of this fine\nmeditation class led by Evalyn. \nEnd a stress filled day\, open to endless posibilities\ntonight\, change your life forever a little at a time.
URL:https://yogabydonation.org/event/guided-meditations-to-expand/
LOCATION:Virtual Studio\, 999 your home\, anytown\, 03801
CATEGORIES:classes,ONLINE REMOTE
ATTACH;FMTTYPE=image/jpeg:https://yogabydonation.org/wp-content/uploads/2015/02/ev-shot-for-glenn.jpg
END:VEVENT
BEGIN:VEVENT
DTSTART;TZID=UTC:20211204T080000
DTEND;TZID=UTC:20211204T120000
DTSTAMP:20260425T113437
CREATED:20211129T063318Z
LAST-MODIFIED:20211129T063318Z
UID:47378-1638604800-1638619200@yogabydonation.org
SUMMARY:Mindful walking Practice
DESCRIPTION:Mindful Walking Practice is a form on not\nnot only buddhist medtitation but an objective of\nmany current and ancient practices which aid in\nbringing you to a quiet mind and to the time of NOW. \nLearn how to be here and now with no resistance.\nEach weekend\, either a Saturday or Sunday\, weather\ndependent we will take a walking meditaiton in the\nPortsmouth/Kittery area. We will walk by sea\, or forest\,\nor river or villiage. Our feet know the idea regardless\nof the scenery. \nEmail today to get information on this weekend’s walking\nand mindfulness
URL:https://yogabydonation.org/event/mindful-walking-practice/
LOCATION:Unnamed Venue\, NH\, United States
CATEGORIES:classes,Registration
ATTACH;FMTTYPE=image/jpeg:https://yogabydonation.org/wp-content/uploads/2021/05/ybd-mindful-walk.jpg
ORGANIZER;CN="Facilitator Evalyn":MAILTO:songofinnerjoy@gmail.com
END:VEVENT
BEGIN:VEVENT
DTSTART;TZID=UTC:20211204T180000
DTEND;TZID=UTC:20211204T191500
DTSTAMP:20260425T113437
CREATED:20211129T054622Z
LAST-MODIFIED:20211129T061747Z
UID:47045-1638640800-1638645300@yogabydonation.org
SUMMARY:A course of Love Dialogues
DESCRIPTION:This is a group of people \, gathering together\nto practice the 17 chapters of dialogue that\nprepare for the 40 days of life changing\nexercises. \nYou will recieve a definition of wods to start\nand handouts to use as barometers and maps\nof your progress. \nReading and discussion with a conclusive brief guided meditation.\nThis group began November 2021 will conclude Early February 2022\,\nonly to begin again the following week.\nRequest the link via this email. 
URL:https://yogabydonation.org/event/a-course-of-love-dialogues/
LOCATION:Remote Class Gathering Zoom LIVE\, Internet
CATEGORIES:ONLINE REMOTE
END:VEVENT
BEGIN:VEVENT
DTSTART;TZID=UTC:20211206T160000
DTEND;TZID=UTC:20211206T171500
DTSTAMP:20260425T113437
CREATED:20211129T054107Z
LAST-MODIFIED:20211129T054107Z
UID:47019-1638806400-1638810900@yogabydonation.org
SUMMARY:A course in Miracles Study Group
DESCRIPTION:A course in Miracles Study Group\nwill convene Dec 5 2021. \nIt is a sytematic reading of The book\nwhich includes one section of the text\,\nand one section of the book and correlates\na lesson so that at the conclusion of 1 year the\nentre book will have been read and perhaps\nfelt\, understood and applied to your daily life\nso that now you can continue to apply it. \nRegister here.\nMake any inquiries here. 
URL:https://yogabydonation.org/event/a-course-in-miracles-study-group/
ATTACH;FMTTYPE=image/jpeg:https://yogabydonation.org/wp-content/uploads/2015/03/ev-meditation-March.jpg
END:VEVENT
BEGIN:VEVENT
DTSTART;TZID=UTC:20211206T173000
DTEND;TZID=UTC:20250805T190000
DTSTAMP:20260425T113437
CREATED:20211129T061124Z
LAST-MODIFIED:20241128T182250Z
UID:47218-1638811800-1754420400@yogabydonation.org
SUMMARY:Interactive Meditation
DESCRIPTION:Interactive meditation\nInteractive Meditation leads you to the manual that\nyou thought was misplaced after birth.\nThe class is a gathering of those who wish to\nhave a better mind set\, and a better life.\nIt is a time to gather and meditate with\nothers as a fire burns brighter with more logs\nso does your meditation deepen and mind quieten.\nShare your successes and consistencies\nin meditation in Interactive Meditation.\nIt is also a time to learn\nabout loving kindness and its appropriate\napplication to points of jealousy or resentment\nin your personal life. The class usually concludes\nwith a guided meditaiton of expansiveness which\nmore often than not is profound.\nLearn how to Feel ( click word for link) \,Deal and Heal to move and\nclaim the joy that life offers.\nPlease email with  any questions you may\nhave regarding attendance in class or for the\nlink to the virtual class if you are not on our email\nlist.\nThe class is not free. We do not establish a minimum fee.\nHelp us keep our broadcast and recording equipment\nup to date and working smoothly. \n. All donations are anonymous.
URL:https://yogabydonation.org/event/interactive-meditation/
LOCATION:Virtual Studio\, 999 your home\, anytown\, 03801
CATEGORIES:classes,ONLINE REMOTE,Registration
ATTACH;FMTTYPE=image/jpeg:https://yogabydonation.org/wp-content/uploads/2015/03/ev-meditation-March.jpg
ORGANIZER;CN="Facilitator Evalyn":MAILTO:songofinnerjoy@gmail.com
END:VEVENT
BEGIN:VEVENT
DTSTART;TZID=UTC:20211212T110000
DTEND;TZID=UTC:20211212T140000
DTSTAMP:20260425T113437
CREATED:20211207T104248Z
LAST-MODIFIED:20211207T104248Z
UID:47514-1639306800-1639317600@yogabydonation.org
SUMMARY:Mindful Walks
DESCRIPTION:Mindful walks is a way to learn to walk  in nature \, even in the city\nwith full presence. Enjoy the experiences that you pass by each\nday and wonder why opportunites pass you by.\nThey do not. Mindful walks shows you how to be mindful.\n95% of persons thinking they walk mindfully are actually\ninterupted by the environment around them instead of\ntapping into the field of opportunity surrounding them. \n\nRegister for a mindful walk.\nThey usually take place\nSaturday or Sunday. As the seasons change so does\nthe start time. Winter of course is a late morning\, mid\nday Mindful walk. Late Spring and Summer are early\nmorning. \n\nDon’t let the grass grow under your feel. Register for\nmindful walk today to get the information regarding\ntime and location.  See various techniques befor you\njoin me.\nOther techniques prior to joining the walk. \nThe location will be in the Greater Portsmouth NH\narea or Kittery Maine area.
URL:https://yogabydonation.org/event/mindful-walks/
LOCATION:Unnamed Venue\, NH\, United States
CATEGORIES:classes,Registration
ATTACH;FMTTYPE=image/jpeg:https://yogabydonation.org/wp-content/uploads/2021/05/ybd-mindful-walk.jpg
ORGANIZER;CN="Facilitator Evalyn":MAILTO:songofinnerjoy@gmail.com
END:VEVENT
END:VCALENDAR