BEGIN:VCALENDAR
VERSION:2.0
PRODID:-//Yoga By Donation - ECPv6.6.0.2//NONSGML v1.0//EN
CALSCALE:GREGORIAN
METHOD:PUBLISH
X-ORIGINAL-URL:https://yogabydonation.org
X-WR-CALDESC:Events for Yoga By Donation
REFRESH-INTERVAL;VALUE=DURATION:PT1H
X-Robots-Tag:noindex
X-PUBLISHED-TTL:PT1H
BEGIN:VTIMEZONE
TZID:UTC
BEGIN:STANDARD
TZOFFSETFROM:+0000
TZOFFSETTO:+0000
TZNAME:UTC
DTSTART:20210101T000000
END:STANDARD
END:VTIMEZONE
BEGIN:VEVENT
DTSTART;TZID=UTC:20211129T090000
DTEND;TZID=UTC:20211129T100000
DTSTAMP:20260425T102011
CREATED:20211129T050356Z
LAST-MODIFIED:20211129T055839Z
UID:46798-1638176400-1638180000@yogabydonation.org
SUMMARY:Abode of the Heart Yoga
DESCRIPTION:Abode of the Heart Yoga is led by Ruth.\nRuth instructs in Ahshaya Yoga or an integrative yoga\nthat helps you find the abode of the heart.\nHer classes are articulated instructive as well as\ndemonstratively instructive. To the Heart Yoga\nled by Ruth is a great way to learn a new yoga\nas she calls out the good alignment and form\nof eavh pose. She also enters the pose with you.\nAbode of the Heart Yoga opens with a reminder that the heart\nis meant to be a safe haven; a place  where we can\nexperience new discoveries in finding our way to\nOne’s self . The class will lead you to say “Yes” to\nlife as the yoga helps to connect you to your higher\npurpose and find your way there. \nThere are standing and floor asanas. Which you\ncan follow safely in your own home. She will gladly\ngive modifications if you let Ruth know that you\nare new to yoga or have sustained an injury. \nEnjoy this virtual practice with a highly articulate\ninstructor\, Ruth .  Wrte her to get on the list\nto receive her class link. You will enjoy \nThe studio uses Zoom software. It is a professional Zoom\nand is safe for you to tap into\, Do yoga in the convenience\nof your own home. Attend Monday a.m’s class
URL:https://yogabydonation.org/event/abode-heart-yoga/
LOCATION:Remote Class Gathering Zoom LIVE\, Internet
CATEGORIES:classes,ONLINE REMOTE
ATTACH;FMTTYPE=image/jpeg:https://yogabydonation.org/wp-content/uploads/2021/11/Ruth1.jpg
END:VEVENT
END:VCALENDAR